BEGIN:VCALENDAR
VERSION:2.0
PRODID:-//Corvette Club of Kansas City - ECPv6.15.20//NONSGML v1.0//EN
CALSCALE:GREGORIAN
METHOD:PUBLISH
X-WR-CALNAME:Corvette Club of Kansas City
X-ORIGINAL-URL:https://corvetteclubkc.com
X-WR-CALDESC:Events for Corvette Club of Kansas City
REFRESH-INTERVAL;VALUE=DURATION:PT1H
X-Robots-Tag:noindex
X-PUBLISHED-TTL:PT1H
BEGIN:VTIMEZONE
TZID:America/Chicago
BEGIN:DAYLIGHT
TZOFFSETFROM:-0600
TZOFFSETTO:-0500
TZNAME:CDT
DTSTART:20240310T080000
END:DAYLIGHT
BEGIN:STANDARD
TZOFFSETFROM:-0500
TZOFFSETTO:-0600
TZNAME:CST
DTSTART:20241103T070000
END:STANDARD
BEGIN:DAYLIGHT
TZOFFSETFROM:-0600
TZOFFSETTO:-0500
TZNAME:CDT
DTSTART:20250309T080000
END:DAYLIGHT
BEGIN:STANDARD
TZOFFSETFROM:-0500
TZOFFSETTO:-0600
TZNAME:CST
DTSTART:20251102T070000
END:STANDARD
BEGIN:DAYLIGHT
TZOFFSETFROM:-0600
TZOFFSETTO:-0500
TZNAME:CDT
DTSTART:20260308T080000
END:DAYLIGHT
BEGIN:STANDARD
TZOFFSETFROM:-0500
TZOFFSETTO:-0600
TZNAME:CST
DTSTART:20261101T070000
END:STANDARD
END:VTIMEZONE
BEGIN:VEVENT
DTSTART;TZID=America/Chicago:20250510T073000
DTEND;TZID=America/Chicago:20250510T100000
DTSTAMP:20260422T010540
CREATED:20250403T123939Z
LAST-MODIFIED:20250418T142428Z
UID:8903-1746862200-1746871200@corvetteclubkc.com
SUMMARY:Bi-Monthly Breakfast
DESCRIPTION:Kicking off something new this month! We’ll be meeting at different Big Biscuit locations around KC for breakfast\, then hitting the road for a drive to a fun destination. Got ideas for a great drive or a cool spot to visit? Let us know! If you have a breakfast spot in mind that can handle reservations and parking\, we’re open to that too.
URL:https://corvetteclubkc.com/event/bi-monthly-breakfast/
LOCATION:Big Biscuit Lenexa\, 16111 W 87th St.\, Lenexa\, KS\, 66219\, United States
CATEGORIES:All Events,Club Events
ORGANIZER;CN="Phil Tummons":MAILTO:ptummons@msn.com
END:VEVENT
BEGIN:VEVENT
DTSTART;TZID=America/Chicago:20250510T120000
DTEND;TZID=America/Chicago:20250510T160000
DTSTAMP:20260422T010540
CREATED:20250415T122002Z
LAST-MODIFIED:20250416T232338Z
UID:8917-1746878400-1746892800@corvetteclubkc.com
SUMMARY:Ensorfest ‘25
DESCRIPTION:Museum Tours\, Amateur Radio Demos\, Antique and Classic Cars\, Smokey Hill BBQ\, Quilt Show\, Live Bluegrass Music \nThe organizers are requesting 7 corvettes to show at the event \nContact John Hamblin to sign up.
URL:https://corvetteclubkc.com/event/ensorfest-25/
LOCATION:Ensorfest meeting location\, 152nd and Ridgeview\, Olathe\, 66062\, United States
CATEGORIES:All Events,Club Events
ORGANIZER;CN="John & Carol Hamblin":MAILTO:1hamblin@comcast.net
END:VEVENT
END:VCALENDAR