BEGIN:VCALENDAR
VERSION:2.0
PRODID:-//Corvette Club of Kansas City - ECPv6.15.20//NONSGML v1.0//EN
CALSCALE:GREGORIAN
METHOD:PUBLISH
X-ORIGINAL-URL:https://corvetteclubkc.com
X-WR-CALDESC:Events for Corvette Club of Kansas City
REFRESH-INTERVAL;VALUE=DURATION:PT1H
X-Robots-Tag:noindex
X-PUBLISHED-TTL:PT1H
BEGIN:VTIMEZONE
TZID:America/Chicago
BEGIN:DAYLIGHT
TZOFFSETFROM:-0600
TZOFFSETTO:-0500
TZNAME:CDT
DTSTART:20240310T080000
END:DAYLIGHT
BEGIN:STANDARD
TZOFFSETFROM:-0500
TZOFFSETTO:-0600
TZNAME:CST
DTSTART:20241103T070000
END:STANDARD
BEGIN:DAYLIGHT
TZOFFSETFROM:-0600
TZOFFSETTO:-0500
TZNAME:CDT
DTSTART:20250309T080000
END:DAYLIGHT
BEGIN:STANDARD
TZOFFSETFROM:-0500
TZOFFSETTO:-0600
TZNAME:CST
DTSTART:20251102T070000
END:STANDARD
BEGIN:DAYLIGHT
TZOFFSETFROM:-0600
TZOFFSETTO:-0500
TZNAME:CDT
DTSTART:20260308T080000
END:DAYLIGHT
BEGIN:STANDARD
TZOFFSETFROM:-0500
TZOFFSETTO:-0600
TZNAME:CST
DTSTART:20261101T070000
END:STANDARD
END:VTIMEZONE
BEGIN:VEVENT
DTSTART;TZID=America/Chicago:20250513T101500
DTEND;TZID=America/Chicago:20250513T230000
DTSTAMP:20260422T011540
CREATED:20250507T130823Z
LAST-MODIFIED:20250507T130823Z
UID:8997-1747131300-1747177200@corvetteclubkc.com
SUMMARY:Drive By for Stan Goldman
DESCRIPTION:We have another “drive by” for Stan Goldman\, who lives at Brookdale Senior Care in Overland Park.  \n\nWe will meet at the Cheesecake Factory on 119th Street (east of Metcalf) at 10:15am.  We are to be at Brookdale at 10:30am.
URL:https://corvetteclubkc.com/event/drive-by-for-stan-goldman/
LOCATION:Cheesecake Factory\, 6675 W 119th St.\, Overland Park\, KS\, 66209\, United States
CATEGORIES:All Events,Club Events
ORGANIZER;CN="Phil Tummons":MAILTO:ptummons@msn.com
END:VEVENT
END:VCALENDAR