BEGIN:VCALENDAR
VERSION:2.0
PRODID:-//Corvette Club of Kansas City - ECPv6.15.20//NONSGML v1.0//EN
CALSCALE:GREGORIAN
METHOD:PUBLISH
X-ORIGINAL-URL:https://corvetteclubkc.com
X-WR-CALDESC:Events for Corvette Club of Kansas City
REFRESH-INTERVAL;VALUE=DURATION:PT1H
X-Robots-Tag:noindex
X-PUBLISHED-TTL:PT1H
BEGIN:VTIMEZONE
TZID:America/Chicago
BEGIN:DAYLIGHT
TZOFFSETFROM:-0600
TZOFFSETTO:-0500
TZNAME:CDT
DTSTART:20240310T080000
END:DAYLIGHT
BEGIN:STANDARD
TZOFFSETFROM:-0500
TZOFFSETTO:-0600
TZNAME:CST
DTSTART:20241103T070000
END:STANDARD
BEGIN:DAYLIGHT
TZOFFSETFROM:-0600
TZOFFSETTO:-0500
TZNAME:CDT
DTSTART:20250309T080000
END:DAYLIGHT
BEGIN:STANDARD
TZOFFSETFROM:-0500
TZOFFSETTO:-0600
TZNAME:CST
DTSTART:20251102T070000
END:STANDARD
BEGIN:DAYLIGHT
TZOFFSETFROM:-0600
TZOFFSETTO:-0500
TZNAME:CDT
DTSTART:20260308T080000
END:DAYLIGHT
BEGIN:STANDARD
TZOFFSETFROM:-0500
TZOFFSETTO:-0600
TZNAME:CST
DTSTART:20261101T070000
END:STANDARD
END:VTIMEZONE
BEGIN:VEVENT
DTSTART;TZID=America/Chicago:20250704T090000
DTEND;TZID=America/Chicago:20250704T130000
DTSTAMP:20260421T214730
CREATED:20250602T125037Z
LAST-MODIFIED:20250701T130252Z
UID:9060-1751619600-1751634000@corvetteclubkc.com
SUMMARY:Lenexa July 4th Parade
DESCRIPTION:We will meet from 9am – 9:30am at Barber Financial’s parking lot at 13550 West 95th Street in Lenexa.  My suggestion is to get there as close to 9am as possible.  The Lenexa police shut down streets around the staging area early in the morning\, which is where will will meet.  This is a super fun parade – be sure to join us!
URL:https://corvetteclubkc.com/event/lenexa-july-4th-parade/
LOCATION:Barber Financial Parking Lot\, 13550 W 95th\, Lenexa\, KS\, 66215\, United States
CATEGORIES:All Events,Club Events
ORGANIZER;CN="Will Huseby":MAILTO:WilliamR@kc.rr.com
END:VEVENT
BEGIN:VEVENT
DTSTART;TZID=America/Chicago:20250704T164500
DTEND;TZID=America/Chicago:20250704T190000
DTSTAMP:20260421T214730
CREATED:20250602T125421Z
LAST-MODIFIED:20250701T130422Z
UID:9062-1751647500-1751655600@corvetteclubkc.com
SUMMARY:Stilwell July 4th Parade
DESCRIPTION:MEET: 4:45pm\nLINE-UP: 5:00pm\nPARADE: 6:00pm \nFriday afternoon’s parade goes thru Stillwell and is HUGE! We will meet at Rich and Chris Chushuk’s house at 6810 West 193rd Street in Stilwell at 4:45pm.
URL:https://corvetteclubkc.com/event/stilwell-july-4th-parade/
LOCATION:Rick Chushuk’s house\, 6810 West 193rd Street\, Stilwell\, KS\, 66085\, United States
ORGANIZER;CN="Rick Chushuk":MAILTO:cckcvp@yahoo.com
END:VEVENT
END:VCALENDAR