BEGIN:VCALENDAR
VERSION:2.0
PRODID:-//Corvette Club of Kansas City - ECPv6.15.20//NONSGML v1.0//EN
CALSCALE:GREGORIAN
METHOD:PUBLISH
X-ORIGINAL-URL:https://corvetteclubkc.com
X-WR-CALDESC:Events for Corvette Club of Kansas City
REFRESH-INTERVAL;VALUE=DURATION:PT1H
X-Robots-Tag:noindex
X-PUBLISHED-TTL:PT1H
BEGIN:VTIMEZONE
TZID:America/Chicago
BEGIN:DAYLIGHT
TZOFFSETFROM:-0600
TZOFFSETTO:-0500
TZNAME:CDT
DTSTART:20240310T080000
END:DAYLIGHT
BEGIN:STANDARD
TZOFFSETFROM:-0500
TZOFFSETTO:-0600
TZNAME:CST
DTSTART:20241103T070000
END:STANDARD
BEGIN:DAYLIGHT
TZOFFSETFROM:-0600
TZOFFSETTO:-0500
TZNAME:CDT
DTSTART:20250309T080000
END:DAYLIGHT
BEGIN:STANDARD
TZOFFSETFROM:-0500
TZOFFSETTO:-0600
TZNAME:CST
DTSTART:20251102T070000
END:STANDARD
BEGIN:DAYLIGHT
TZOFFSETFROM:-0600
TZOFFSETTO:-0500
TZNAME:CDT
DTSTART:20260308T080000
END:DAYLIGHT
BEGIN:STANDARD
TZOFFSETFROM:-0500
TZOFFSETTO:-0600
TZNAME:CST
DTSTART:20261101T070000
END:STANDARD
END:VTIMEZONE
BEGIN:VEVENT
DTSTART;TZID=America/Chicago:20250807T090000
DTEND;TZID=America/Chicago:20250807T130000
DTSTAMP:20260421T194515
CREATED:20250805T151335Z
LAST-MODIFIED:20250805T151335Z
UID:9108-1754557200-1754571600@corvetteclubkc.com
SUMMARY:Hallmark Visitors Center Tour
DESCRIPTION:Meet at the Home Depot at 5700 Antioch (I-35 & Johnson Drive) at 9:00am. We will leave at 9:30am for Hallmark. \nTHIS IS A FREE TOUR – No RSVP is necessary…simply join us on Thursday! We will go to lunch after the Visitors Center tour. \nFor more information\, contact Phil Tummons at 816-718-4214 or ptummons@msncom
URL:https://corvetteclubkc.com/event/hallmark-visitors-center-tour/
LOCATION:Home Depot\, 5700 Antioch Rd\, Merriam\, KS\, 66202\, United States
CATEGORIES:All Events,Club Events
ORGANIZER;CN="Phil Tummons":MAILTO:ptummons@msn.com
END:VEVENT
END:VCALENDAR