BEGIN:VCALENDAR
VERSION:2.0
PRODID:-//Corvette Club of Kansas City - ECPv6.15.20//NONSGML v1.0//EN
CALSCALE:GREGORIAN
METHOD:PUBLISH
X-WR-CALNAME:Corvette Club of Kansas City
X-ORIGINAL-URL:https://corvetteclubkc.com
X-WR-CALDESC:Events for Corvette Club of Kansas City
REFRESH-INTERVAL;VALUE=DURATION:PT1H
X-Robots-Tag:noindex
X-PUBLISHED-TTL:PT1H
BEGIN:VTIMEZONE
TZID:America/Chicago
BEGIN:DAYLIGHT
TZOFFSETFROM:-0600
TZOFFSETTO:-0500
TZNAME:CDT
DTSTART:20240310T080000
END:DAYLIGHT
BEGIN:STANDARD
TZOFFSETFROM:-0500
TZOFFSETTO:-0600
TZNAME:CST
DTSTART:20241103T070000
END:STANDARD
BEGIN:DAYLIGHT
TZOFFSETFROM:-0600
TZOFFSETTO:-0500
TZNAME:CDT
DTSTART:20250309T080000
END:DAYLIGHT
BEGIN:STANDARD
TZOFFSETFROM:-0500
TZOFFSETTO:-0600
TZNAME:CST
DTSTART:20251102T070000
END:STANDARD
BEGIN:DAYLIGHT
TZOFFSETFROM:-0600
TZOFFSETTO:-0500
TZNAME:CDT
DTSTART:20260308T080000
END:DAYLIGHT
BEGIN:STANDARD
TZOFFSETFROM:-0500
TZOFFSETTO:-0600
TZNAME:CST
DTSTART:20261101T070000
END:STANDARD
END:VTIMEZONE
BEGIN:VEVENT
DTSTART;TZID=America/Chicago:20250906T080000
DTEND;TZID=America/Chicago:20250906T110000
DTSTAMP:20260421T180538
CREATED:20250806T120910Z
LAST-MODIFIED:20250817T140306Z
UID:9121-1757145600-1757156400@corvetteclubkc.com
SUMMARY:Corvettes & Canolis
DESCRIPTION:September is National Cannoli Month. \nJasper’s Restaurant will once again be hosting our CCKC version of Cars & Coffee that we call Corvettes & Cannolis. \nJasper will have free coffee and homemade cannolis for everyone.
URL:https://corvetteclubkc.com/event/9121/
LOCATION:Jasper’s Restaurant\, 1201 W. 103rd St.\, Kansas City\, MO\, 64114\, United States
CATEGORIES:All Events,Club Events
ORGANIZER;CN="Steve Garrett":MAILTO:stevegarrettdj@gmail.com
END:VEVENT
END:VCALENDAR