BEGIN:VCALENDAR
VERSION:2.0
PRODID:-//Corvette Club of Kansas City - ECPv6.15.20//NONSGML v1.0//EN
CALSCALE:GREGORIAN
METHOD:PUBLISH
X-WR-CALNAME:Corvette Club of Kansas City
X-ORIGINAL-URL:https://corvetteclubkc.com
X-WR-CALDESC:Events for Corvette Club of Kansas City
REFRESH-INTERVAL;VALUE=DURATION:PT1H
X-Robots-Tag:noindex
X-PUBLISHED-TTL:PT1H
BEGIN:VTIMEZONE
TZID:America/Chicago
BEGIN:DAYLIGHT
TZOFFSETFROM:-0600
TZOFFSETTO:-0500
TZNAME:CDT
DTSTART:20240310T080000
END:DAYLIGHT
BEGIN:STANDARD
TZOFFSETFROM:-0500
TZOFFSETTO:-0600
TZNAME:CST
DTSTART:20241103T070000
END:STANDARD
BEGIN:DAYLIGHT
TZOFFSETFROM:-0600
TZOFFSETTO:-0500
TZNAME:CDT
DTSTART:20250309T080000
END:DAYLIGHT
BEGIN:STANDARD
TZOFFSETFROM:-0500
TZOFFSETTO:-0600
TZNAME:CST
DTSTART:20251102T070000
END:STANDARD
BEGIN:DAYLIGHT
TZOFFSETFROM:-0600
TZOFFSETTO:-0500
TZNAME:CDT
DTSTART:20260308T080000
END:DAYLIGHT
BEGIN:STANDARD
TZOFFSETFROM:-0500
TZOFFSETTO:-0600
TZNAME:CST
DTSTART:20261101T070000
END:STANDARD
END:VTIMEZONE
BEGIN:VEVENT
DTSTART;TZID=America/Chicago:20251018T090000
DTEND;TZID=America/Chicago:20251018T140000
DTSTAMP:20260421T162605
CREATED:20251009T113640Z
LAST-MODIFIED:20251017T123757Z
UID:9277-1760778000-1760796000@corvetteclubkc.com
SUMMARY:Cars In The Park
DESCRIPTION:Join us for an unforgettable day of horsepower and hotrods at Cars in the Park\, a fundraising event benefiting JCPRD’s Special Olympics team the Stormin’ Rangers! Suggested donation of $10 per family (for spectators).\nCars In The Park\n\nThis event is fun for all ages\, with a live DJ\, delicious food trucks\, exciting raffle prizes\, and hundreds of classic\, modern and unique rides that every enthusiast will love.\nThis is a rain-or-shine event. However\, in the case of severe weather\, call our Information Line: 913-686-6030 x 14#\nQuestions? Contact Adaptive Recreation Coordinator Lise Dujakovich at Lise.Dujakovich@jocogov.org.
URL:https://corvetteclubkc.com/event/cars-in-the-park/
LOCATION:Theater In The Park\, 7710 Renner Rd.\, Shawnee\, KS\, 66218\, United States
CATEGORIES:All Events,Club Events
ORGANIZER;CN="Steve Garrett":MAILTO:stevegarrettdj@gmail.com
END:VEVENT
END:VCALENDAR