BEGIN:VCALENDAR
VERSION:2.0
PRODID:-//Corvette Club of Kansas City - ECPv6.15.20//NONSGML v1.0//EN
CALSCALE:GREGORIAN
METHOD:PUBLISH
X-ORIGINAL-URL:https://corvetteclubkc.com
X-WR-CALDESC:Events for Corvette Club of Kansas City
REFRESH-INTERVAL;VALUE=DURATION:PT1H
X-Robots-Tag:noindex
X-PUBLISHED-TTL:PT1H
BEGIN:VTIMEZONE
TZID:America/Chicago
BEGIN:DAYLIGHT
TZOFFSETFROM:-0600
TZOFFSETTO:-0500
TZNAME:CDT
DTSTART:20250309T080000
END:DAYLIGHT
BEGIN:STANDARD
TZOFFSETFROM:-0500
TZOFFSETTO:-0600
TZNAME:CST
DTSTART:20251102T070000
END:STANDARD
BEGIN:DAYLIGHT
TZOFFSETFROM:-0600
TZOFFSETTO:-0500
TZNAME:CDT
DTSTART:20260308T080000
END:DAYLIGHT
BEGIN:STANDARD
TZOFFSETFROM:-0500
TZOFFSETTO:-0600
TZNAME:CST
DTSTART:20261101T070000
END:STANDARD
BEGIN:DAYLIGHT
TZOFFSETFROM:-0600
TZOFFSETTO:-0500
TZNAME:CDT
DTSTART:20270314T080000
END:DAYLIGHT
BEGIN:STANDARD
TZOFFSETFROM:-0500
TZOFFSETTO:-0600
TZNAME:CST
DTSTART:20271107T070000
END:STANDARD
END:VTIMEZONE
BEGIN:VEVENT
DTSTART;TZID=America/Chicago:20260408T113000
DTEND;TZID=America/Chicago:20260408T153000
DTSTAMP:20260421T072200
CREATED:20260323T214546Z
LAST-MODIFIED:20260323T224301Z
UID:9412-1775647800-1775662200@corvetteclubkc.com
SUMMARY:Amazon Fulfillment Center Tour
DESCRIPTION:We will meet for lunch at Yardhouse in Village West (1863 Village West Parkway) at 11:30am.  You don’t have to go to lunch prior to the tour.  You can meet the group at Amazon at 1:20pm (if you cannot go to lunch). \nPlease arrive by 1:20. The tour is at 1:40pm.  Park in the main lot in front of the building and enter at the main entrance under the big logo. Solid shoes required. Water bottles allowed but no other food or drink. \nRSVP by this Sunday\, March 29th to Phil Tummons\, ptummons@msn.com or 816-718-4214.  We can have up to 20 people on this tour\, so it’s first come\, first served.\nWALK-UPS ARE NOT ALLOWED
URL:https://corvetteclubkc.com/event/amazon-fulfillment-center-tour/
LOCATION:Yardhouse\, 1863 Village West Parkway\, Kansas City\, 66111
CATEGORIES:All Events,Club Events
ORGANIZER;CN="Phil Tummons":MAILTO:ptummons@msn.com
END:VEVENT
END:VCALENDAR