BEGIN:VCALENDAR
VERSION:2.0
PRODID:-//Corvette Club of Kansas City - ECPv6.15.20//NONSGML v1.0//EN
CALSCALE:GREGORIAN
METHOD:PUBLISH
X-WR-CALNAME:Corvette Club of Kansas City
X-ORIGINAL-URL:https://corvetteclubkc.com
X-WR-CALDESC:Events for Corvette Club of Kansas City
REFRESH-INTERVAL;VALUE=DURATION:PT1H
X-Robots-Tag:noindex
X-PUBLISHED-TTL:PT1H
BEGIN:VTIMEZONE
TZID:America/Chicago
BEGIN:DAYLIGHT
TZOFFSETFROM:-0600
TZOFFSETTO:-0500
TZNAME:CDT
DTSTART:20250309T080000
END:DAYLIGHT
BEGIN:STANDARD
TZOFFSETFROM:-0500
TZOFFSETTO:-0600
TZNAME:CST
DTSTART:20251102T070000
END:STANDARD
BEGIN:DAYLIGHT
TZOFFSETFROM:-0600
TZOFFSETTO:-0500
TZNAME:CDT
DTSTART:20260308T080000
END:DAYLIGHT
BEGIN:STANDARD
TZOFFSETFROM:-0500
TZOFFSETTO:-0600
TZNAME:CST
DTSTART:20261101T070000
END:STANDARD
BEGIN:DAYLIGHT
TZOFFSETFROM:-0600
TZOFFSETTO:-0500
TZNAME:CDT
DTSTART:20270314T080000
END:DAYLIGHT
BEGIN:STANDARD
TZOFFSETFROM:-0500
TZOFFSETTO:-0600
TZNAME:CST
DTSTART:20271107T070000
END:STANDARD
END:VTIMEZONE
BEGIN:VEVENT
DTSTART;TZID=America/Chicago:20260423T173000
DTEND;TZID=America/Chicago:20260423T190000
DTSTAMP:20260421T065224
CREATED:20250327T141821Z
LAST-MODIFIED:20260409T220031Z
UID:8865-1776965400-1776970800@corvetteclubkc.com
SUMMARY:Cosentino’s Cruise night
DESCRIPTION:We will take a drive for ice cream after the cruise-in.
URL:https://corvetteclubkc.com/event/cosentinos-cruise-night/
LOCATION:Cosentino’s\, 8051 W. 160th St.\, Overland Park\, KS\, 66223\, United States
CATEGORIES:All Events,Club Events
ORGANIZER;CN="Phil Tummons":MAILTO:ptummons@msn.com
END:VEVENT
END:VCALENDAR