BEGIN:VCALENDAR
VERSION:2.0
PRODID:-//Corvette Club of Kansas City - ECPv6.15.20//NONSGML v1.0//EN
CALSCALE:GREGORIAN
METHOD:PUBLISH
X-WR-CALNAME:Corvette Club of Kansas City
X-ORIGINAL-URL:https://corvetteclubkc.com
X-WR-CALDESC:Events for Corvette Club of Kansas City
REFRESH-INTERVAL;VALUE=DURATION:PT1H
X-Robots-Tag:noindex
X-PUBLISHED-TTL:PT1H
BEGIN:VTIMEZONE
TZID:America/Chicago
BEGIN:DAYLIGHT
TZOFFSETFROM:-0600
TZOFFSETTO:-0500
TZNAME:CDT
DTSTART:20250309T080000
END:DAYLIGHT
BEGIN:STANDARD
TZOFFSETFROM:-0500
TZOFFSETTO:-0600
TZNAME:CST
DTSTART:20251102T070000
END:STANDARD
BEGIN:DAYLIGHT
TZOFFSETFROM:-0600
TZOFFSETTO:-0500
TZNAME:CDT
DTSTART:20260308T080000
END:DAYLIGHT
BEGIN:STANDARD
TZOFFSETFROM:-0500
TZOFFSETTO:-0600
TZNAME:CST
DTSTART:20261101T070000
END:STANDARD
BEGIN:DAYLIGHT
TZOFFSETFROM:-0600
TZOFFSETTO:-0500
TZNAME:CDT
DTSTART:20270314T080000
END:DAYLIGHT
BEGIN:STANDARD
TZOFFSETFROM:-0500
TZOFFSETTO:-0600
TZNAME:CST
DTSTART:20271107T070000
END:STANDARD
END:VTIMEZONE
BEGIN:VEVENT
DTSTART;TZID=America/Chicago:20260724T164500
DTEND;TZID=America/Chicago:20260724T190000
DTSTAMP:20260421T124159
CREATED:20250403T123425Z
LAST-MODIFIED:20260409T220745Z
UID:8901-1784911500-1784919600@corvetteclubkc.com
SUMMARY:Olathe 4th Fridays
DESCRIPTION:Details to follow
URL:https://corvetteclubkc.com/event/olathe-4th-fridays/
LOCATION:Old 56 Family Restaurant\, 912 S. Chestnut\, Olathe\, KS\, 66061\, United States
CATEGORIES:All Events,Club Events
ORGANIZER;CN="Phil Tummons":MAILTO:ptummons@msn.com
END:VEVENT
END:VCALENDAR