BEGIN:VCALENDAR
VERSION:2.0
PRODID:-//Corvette Club of Kansas City - ECPv6.15.20//NONSGML v1.0//EN
CALSCALE:GREGORIAN
METHOD:PUBLISH
X-WR-CALNAME:Corvette Club of Kansas City
X-ORIGINAL-URL:https://corvetteclubkc.com
X-WR-CALDESC:Events for Corvette Club of Kansas City
REFRESH-INTERVAL;VALUE=DURATION:PT1H
X-Robots-Tag:noindex
X-PUBLISHED-TTL:PT1H
BEGIN:VTIMEZONE
TZID:America/Chicago
BEGIN:DAYLIGHT
TZOFFSETFROM:-0600
TZOFFSETTO:-0500
TZNAME:CDT
DTSTART:20240310T080000
END:DAYLIGHT
BEGIN:STANDARD
TZOFFSETFROM:-0500
TZOFFSETTO:-0600
TZNAME:CST
DTSTART:20241103T070000
END:STANDARD
BEGIN:DAYLIGHT
TZOFFSETFROM:-0600
TZOFFSETTO:-0500
TZNAME:CDT
DTSTART:20250309T080000
END:DAYLIGHT
BEGIN:STANDARD
TZOFFSETFROM:-0500
TZOFFSETTO:-0600
TZNAME:CST
DTSTART:20251102T070000
END:STANDARD
BEGIN:DAYLIGHT
TZOFFSETFROM:-0600
TZOFFSETTO:-0500
TZNAME:CDT
DTSTART:20260308T080000
END:DAYLIGHT
BEGIN:STANDARD
TZOFFSETFROM:-0500
TZOFFSETTO:-0600
TZNAME:CST
DTSTART:20261101T070000
END:STANDARD
BEGIN:DAYLIGHT
TZOFFSETFROM:-0600
TZOFFSETTO:-0500
TZNAME:CDT
DTSTART:20270314T080000
END:DAYLIGHT
BEGIN:STANDARD
TZOFFSETFROM:-0500
TZOFFSETTO:-0600
TZNAME:CST
DTSTART:20271107T070000
END:STANDARD
END:VTIMEZONE
BEGIN:VEVENT
DTSTART;TZID=America/Chicago:20251024T180000
DTEND;TZID=America/Chicago:20251024T203000
DTSTAMP:20260421T180843
CREATED:20250930T214346Z
LAST-MODIFIED:20251001T130330Z
UID:9213-1761328800-1761337800@corvetteclubkc.com
SUMMARY:SOAR Trunk or Treat
DESCRIPTION:October 24th – 6:00pm – 8:30pm \nEvangel Church\n1414 E 103rd St.\nKansas City  MO  64131 \nCLICK HERE TO RSVP
URL:https://corvetteclubkc.com/event/soar-trunk-or-treat/
LOCATION:Evangel Cruch\, 1414 E 103rd St.\, Kansas City\, MO\, 64131\, United States
CATEGORIES:All Events,Club Events
ORGANIZER;CN="Jim and Jana Lucke":MAILTO:jim.lucke@gmail.com
END:VEVENT
BEGIN:VEVENT
DTSTART;TZID=America/Chicago:20251025T090000
DTEND;TZID=America/Chicago:20251025T120000
DTSTAMP:20260421T180843
CREATED:20251002T133110Z
LAST-MODIFIED:20251002T133110Z
UID:9260-1761382800-1761393600@corvetteclubkc.com
SUMMARY:Gateway Classic Cars Trunk or Treat
DESCRIPTION:
URL:https://corvetteclubkc.com/event/gateway-classic-cars-trunk-or-treat/
LOCATION:Gateway Classic Cars\, 1202 S Lone Elm Rd.\, Olathe\, KS\, 66061\, United States
CATEGORIES:All Events,Club Events
ORGANIZER;CN="Phil Tummons":MAILTO:ptummons@msn.com
END:VEVENT
BEGIN:VEVENT
DTSTART;TZID=America/Chicago:20251102T090000
DTEND;TZID=America/Chicago:20251102T130000
DTSTAMP:20260421T180843
CREATED:20251002T133230Z
LAST-MODIFIED:20251026T141052Z
UID:9262-1762074000-1762088400@corvetteclubkc.com
SUMMARY:Fall Color Run
DESCRIPTION:Meeting location/time: Kansas City Monarchs parking lot\, 1800 Village West Pkwy\, Kansas City\, KS 66111 at 9:00 am. \nPlan on departing promptly from the Monarchs parking lot at 9:30 am. for a scenic fall drive through to HWY 5 to Weston. \nLunch: There are several options for lunch such as O’Malley’s Pub\, Tin Kitchen and Avalon Café. \nFall Color Run Flyer
URL:https://corvetteclubkc.com/event/fall-color-run-2/
LOCATION:Monarchs Parking Lot\, 10917 Stadium Dr.\, KANSAS CITY\, KS\, 66111\, United States
CATEGORIES:All Events,Club Events
ORGANIZER;CN="Jose & Dolia Lemus":MAILTO:jlemus24@hotmail.com
END:VEVENT
BEGIN:VEVENT
DTSTART;TZID=America/Chicago:20251108T081500
DTEND;TZID=America/Chicago:20251108T110000
DTSTAMP:20260421T180843
CREATED:20251002T133435Z
LAST-MODIFIED:20251022T135105Z
UID:9265-1762589700-1762599600@corvetteclubkc.com
SUMMARY:Ottawa Veteran's Parade
DESCRIPTION:Meet at Gardner Burger King (by Walmart) at 8:15am \nStaging begins at 9:00am
URL:https://corvetteclubkc.com/event/ottawa-veterans-parade/
LOCATION:Gardner Burger King\, 1785 E Santa Fe St\, Gardner\, 66030\, United States
CATEGORIES:All Events,Club Events
ORGANIZER;CN="Phil Tummons":MAILTO:ptummons@msn.com
END:VEVENT
BEGIN:VEVENT
DTSTART;TZID=America/Chicago:20251111T080000
DTEND;TZID=America/Chicago:20251111T120000
DTSTAMP:20260421T180843
CREATED:20251022T134614Z
LAST-MODIFIED:20251022T134614Z
UID:9304-1762848000-1762862400@corvetteclubkc.com
SUMMARY:Leavenworth Veterans Day Parade
DESCRIPTION:Meet at Nebraska Furniture Mart at 8:00am \nParade begins staging at 9:00am
URL:https://corvetteclubkc.com/event/leavenworth-veterans-day-parade/
LOCATION:Nebrasksa Furniture Mart\, 1601 Village West Pkwy\, Kansas City\, KS\, 66111\, United States
CATEGORIES:All Events,Club Events
ORGANIZER;CN="Phil Tummons":MAILTO:ptummons@msn.com
END:VEVENT
BEGIN:VEVENT
DTSTART;TZID=America/Chicago:20251119T190100
DTEND;TZID=America/Chicago:20251119T200000
DTSTAMP:20260421T180843
CREATED:20251015T210816Z
LAST-MODIFIED:20251015T210816Z
UID:9295-1763578860-1763582400@corvetteclubkc.com
SUMMARY:Toys For Tots Toy Drive
DESCRIPTION:ToysForTots2025
URL:https://corvetteclubkc.com/event/toys-for-tots-toy-drive/
LOCATION:Zarda BBQ\, 11931 W 87th St Pkwy\,\, Lenexa\, 66215\, United States
CATEGORIES:All Events,Club Events,Monthly Meetings
ORGANIZER;CN="Rick Chushuk":MAILTO:cckcvp@yahoo.com
END:VEVENT
BEGIN:VEVENT
DTSTART;TZID=America/Chicago:20251206T083000
DTEND;TZID=America/Chicago:20251206T110000
DTSTAMP:20260421T180843
CREATED:20241031T115935Z
LAST-MODIFIED:20251116T230249Z
UID:8609-1765009800-1765018800@corvetteclubkc.com
SUMMARY:Mecum Auction
DESCRIPTION:We meet at Bartle Hall in downtown KC at 8:30am on Saturday (yes\, Saturday-not Friday this year) to get a tour of the Mecum Auction.  Scott Hoke\, TV host of the Mecum Auction will stop by to meet everyone.  Your ticket gets you the tour AND full access to the auction on Saturday!\n\n***Get a 25% CCKC discount if purchased by December 4th\nCLICK HERE TO PURCHASE\nPrice is $26.25 per person\, which also gets you into the Mecum Auction all day that day! \nRSVP and payment deadline is Wednesday\, December 4th
URL:https://corvetteclubkc.com/event/mecum-behind-the-scenes-tour/
LOCATION:Bartle Hall\, 301 West 13th Street\, Kansas City\, MO\, 64105\, United States
CATEGORIES:All Events,Club Events
ATTACH;FMTTYPE=image/jpeg:https://corvetteclubkc.com/wp-content/uploads/2024/10/mecum.jpg
ORGANIZER;CN="Steve Garrett":MAILTO:stevegarrettdj@gmail.com
END:VEVENT
BEGIN:VEVENT
DTSTART;TZID=America/Chicago:20251220T180000
DTEND;TZID=America/Chicago:20251220T220000
DTSTAMP:20260421T180843
CREATED:20250818T225511Z
LAST-MODIFIED:20251211T175427Z
UID:9168-1766253600-1766268000@corvetteclubkc.com
SUMMARY:Holiday Party
DESCRIPTION:Saturday\, December 20th\, 2025\nLeawood Country Club\n12700 Overbrook Rd\nLeawood\, KS 66209 \nCCKC Members – $50 / person\nNon-members – $75 / person \nCocktails at 6 PM – Dinner at 7 PM\nCash Only Bar \n\n 
URL:https://corvetteclubkc.com/event/holiday-party/
LOCATION:Country Club of Leawood\, 12700 Overbrook Rd\, Leawood\, KS\, 66209\, United States
CATEGORIES:All Events,Club Events
ORGANIZER;CN="Chris Chushuk":MAILTO:cchushuk@yahoo.com
END:VEVENT
BEGIN:VEVENT
DTSTART;TZID=America/Chicago:20260121T190000
DTEND;TZID=America/Chicago:20260121T200000
DTSTAMP:20260421T180843
CREATED:20241212T144718Z
LAST-MODIFIED:20251201T145847Z
UID:8709-1769022000-1769025600@corvetteclubkc.com
SUMMARY:Corvette Club of KC Monthly Meeting
DESCRIPTION:Our meetings are on the third Wednesday of each month at Zarda BBQ\, located at 11931 W 87th St Pkwy\, Lenexa\, KS 66215.\n\nDinner will begin around 5:45pm and run until 7:00pm.  We will start our meeting promptly at 7:00pm.
URL:https://corvetteclubkc.com/event/corvette-club-of-kc-monthly-meeting-25/
LOCATION:Zarda BBQ\, 11931 W 87th St Pkwy\,\, Lenexa\, 66215\, United States
CATEGORIES:All Events,Monthly Meetings
ORGANIZER;CN="Steve Garrett":MAILTO:stevegarrettdj@gmail.com
END:VEVENT
BEGIN:VEVENT
DTSTART;TZID=America/Chicago:20260218T190000
DTEND;TZID=America/Chicago:20260218T200000
DTSTAMP:20260421T180843
CREATED:20241212T144825Z
LAST-MODIFIED:20251201T150005Z
UID:8711-1771441200-1771444800@corvetteclubkc.com
SUMMARY:Corvette Club of KC Monthly Meeting
DESCRIPTION:Our meetings are on the third Wednesday of each month at Zarda BBQ\, located at 11931 W 87th St Pkwy\, Lenexa\, KS 66215.\n\nDinner will begin around 5:45pm and run until 7:00pm.  We will start our meeting promptly at 7:00pm.
URL:https://corvetteclubkc.com/event/corvette-club-of-kc-monthly-meeting-26/
LOCATION:Zarda BBQ\, 11931 W 87th St Pkwy\,\, Lenexa\, 66215\, United States
CATEGORIES:All Events,Monthly Meetings
ORGANIZER;CN="Steve Garrett":MAILTO:stevegarrettdj@gmail.com
END:VEVENT
BEGIN:VEVENT
DTSTART;TZID=America/Chicago:20260228T100000
DTEND;TZID=America/Chicago:20260228T120000
DTSTAMP:20260421T180843
CREATED:20250205T213459Z
LAST-MODIFIED:20260225T143239Z
UID:8768-1772272800-1772280000@corvetteclubkc.com
SUMMARY:101 The FOX Tour and Lunch
DESCRIPTION:Sign UP HERE For The Tour and Lunch at Q39 \nSteve Garrett will be hosting a CCKC tour of the 101 The Fox / Cumulus Radio studio on Feb 28th at the Corporate Woods Location. Please use this signup to let us know how many members will be participating in the tour\, and also attending lunch at Q39 BBQ after the tour.
URL:https://corvetteclubkc.com/event/101-the-fox-tour-2/
LOCATION:CUMULUS Radio Station\, 8900 Indian Creek Pkwy Building 6\, Overland Park\, KS\, 66210\, United States
CATEGORIES:All Events,Club Events
ORGANIZER;CN="Steve Garrett":MAILTO:stevegarrettdj@gmail.com
END:VEVENT
BEGIN:VEVENT
DTSTART;TZID=America/Chicago:20260314T130000
DTEND;TZID=America/Chicago:20260314T160000
DTSTAMP:20260421T180843
CREATED:20260307T000531Z
LAST-MODIFIED:20260310T153844Z
UID:9400-1773493200-1773504000@corvetteclubkc.com
SUMMARY:Brookside St. Patrick’s Day Parade
DESCRIPTION:We will meet at 1:00 the parade starts at 2:00.\nMeeting place – Go east of Wornall on 70th street to Brookside Rd. then turn left to spot 85 (our position in the parade).\nWe could especially use 3-4 more convertibles to carry dignitaries during the parade\, but all Corvettes are welcome!\n  \nPLEASE CONTACT PHIL TUMMONS IF YOU’D LIKE TO BE IN THE PARADE at ptummons@msn.com or call him at 913-718-4214 by Wednesday\, March 11th.
URL:https://corvetteclubkc.com/event/brookside-st-patricks-day-parade/
LOCATION:St. Patricks meeting place\, 7001 Brookside Rd\, Kansas City\, MO\, 64113\, United States
CATEGORIES:All Events,Club Events
ORGANIZER;CN="Phil Tummons":MAILTO:ptummons@msn.com
END:VEVENT
BEGIN:VEVENT
DTSTART;TZID=America/Chicago:20260318T190000
DTEND;TZID=America/Chicago:20260318T200000
DTSTAMP:20260421T180843
CREATED:20241212T145004Z
LAST-MODIFIED:20251201T150251Z
UID:8713-1773860400-1773864000@corvetteclubkc.com
SUMMARY:Corvette Club of KC Monthly Meeting
DESCRIPTION:Our meetings are on the third Wednesday of each month at Zarda BBQ\, located at 11931 W 87th St Pkwy\, Lenexa\, KS 66215.\n\nDinner will begin around 5:45pm and run until 7:00pm.  We will start our meeting promptly at 7:00pm.
URL:https://corvetteclubkc.com/event/corvette-club-of-kc-monthly-meeting-27/
LOCATION:Zarda BBQ\, 11931 W 87th St Pkwy\,\, Lenexa\, 66215\, United States
CATEGORIES:All Events,Monthly Meetings
ORGANIZER;CN="Steve Garrett":MAILTO:stevegarrettdj@gmail.com
END:VEVENT
BEGIN:VEVENT
DTSTART;TZID=America/Chicago:20260319T091500
DTEND;TZID=America/Chicago:20260319T130000
DTSTAMP:20260421T180843
CREATED:20260316T130942Z
LAST-MODIFIED:20260316T131136Z
UID:9406-1773911700-1773925200@corvetteclubkc.com
SUMMARY:Freedom Plane of National Documents
DESCRIPTION:Our Activities Director\, Phil Tummons\, will lead a group to the World War I Museum and Memorial on Thursday\, March 19th (this week) to see the Freedom Plane of National Documents as we celebrate our nation’s 250th birthday. \nWe will meet at the Home Depot at 5700 Antioch Rd. (I-35 & Johnson Dr.) Thursday March 19 at 9:15am.  The Museum opens at 10:00. We can view the free exhibit or purchase a ticket if you want to visit the whole museum. We will go to lunch afterwards. No need to RSVP. Call or write to Phil Tummons if you have any questions.  816-718-4214 or ptummons@msn.com
URL:https://corvetteclubkc.com/event/freedom-plane-of-national-documents/
LOCATION:Home Depot\, 5700 Antioch Rd\, Merriam\, KS\, 66202\, United States
CATEGORIES:All Events,Club Events
ORGANIZER;CN="Phil Tummons":MAILTO:ptummons@msn.com
END:VEVENT
BEGIN:VEVENT
DTSTART;TZID=America/Chicago:20260328T100000
DTEND;TZID=America/Chicago:20260328T120000
DTSTAMP:20260421T180843
CREATED:20260316T131651Z
LAST-MODIFIED:20260316T131651Z
UID:9409-1774692000-1774699200@corvetteclubkc.com
SUMMARY:Bunny Hop
DESCRIPTION:Saturday\, March 28th\, 10am – 12 noon at Central Church of the Nazarene (12600 West 87th Street Parkway\, Lenexa\, KS). Hosted by Keith Keltner\, this awesome and fun free event will feature our Corvettes! Attendees will “hop” from car to car\, collecting treats! Also featured is food\, crafts and games.
URL:https://corvetteclubkc.com/event/bunny-hop/
LOCATION:Central Church of the Nazarene\, 12600 West 87th Street Parkway\, Lenexa\, KS\, 66215\, United States
CATEGORIES:All Events,Club Events
END:VEVENT
BEGIN:VEVENT
DTSTART;TZID=America/Chicago:20260408T113000
DTEND;TZID=America/Chicago:20260408T153000
DTSTAMP:20260421T180843
CREATED:20260323T214546Z
LAST-MODIFIED:20260323T224301Z
UID:9412-1775647800-1775662200@corvetteclubkc.com
SUMMARY:Amazon Fulfillment Center Tour
DESCRIPTION:We will meet for lunch at Yardhouse in Village West (1863 Village West Parkway) at 11:30am.  You don’t have to go to lunch prior to the tour.  You can meet the group at Amazon at 1:20pm (if you cannot go to lunch). \nPlease arrive by 1:20. The tour is at 1:40pm.  Park in the main lot in front of the building and enter at the main entrance under the big logo. Solid shoes required. Water bottles allowed but no other food or drink. \nRSVP by this Sunday\, March 29th to Phil Tummons\, ptummons@msn.com or 816-718-4214.  We can have up to 20 people on this tour\, so it’s first come\, first served.\nWALK-UPS ARE NOT ALLOWED
URL:https://corvetteclubkc.com/event/amazon-fulfillment-center-tour/
LOCATION:Yardhouse\, 1863 Village West Parkway\, Kansas City\, 66111
CATEGORIES:All Events,Club Events
ORGANIZER;CN="Phil Tummons":MAILTO:ptummons@msn.com
END:VEVENT
BEGIN:VEVENT
DTSTART;TZID=America/Chicago:20260415T190000
DTEND;TZID=America/Chicago:20260415T200000
DTSTAMP:20260421T180843
CREATED:20250301T141643Z
LAST-MODIFIED:20251201T150335Z
UID:8779-1776279600-1776283200@corvetteclubkc.com
SUMMARY:Corvette Club of KC Monthly Meeting
DESCRIPTION:Our meetings are on the third Wednesday of each month at Zarda BBQ\, located at 11931 W 87th St Pkwy\, Lenexa\, KS 66215.\n\nDinner will begin around 5:45pm and run until 7:00pm.  We will start our meeting promptly at 7:00pm.
URL:https://corvetteclubkc.com/event/corvette-club-of-kc-monthly-meeting-28/
LOCATION:Zarda BBQ\, 11931 W 87th St Pkwy\,\, Lenexa\, 66215\, United States
CATEGORIES:All Events,Monthly Meetings
ORGANIZER;CN="Steve Garrett":MAILTO:stevegarrettdj@gmail.com
END:VEVENT
BEGIN:VEVENT
DTSTART;TZID=America/Chicago:20260417T094500
DTEND;TZID=America/Chicago:20260417T133000
DTSTAMP:20260421T180843
CREATED:20250929T120752Z
LAST-MODIFIED:20260323T215017Z
UID:9201-1776419100-1776432600@corvetteclubkc.com
SUMMARY:KC Air Traffic Control Center Tour
DESCRIPTION:All participants must arrive by 9:45 am for entry processing. This free tour is scheduled for 2 hours. Lunch in Olathe is planned following the tour.\n\nAll participants must have a Real ID as identification. If anyone is a foreign national\, they must be identified early enough to go through a vetting process.  Comfortable clothing is recommended because of some walking and cooler temps in the facility.\n\nIt is imperative that the group stays together because the last tour a guest was found wondering in the facility 40 minutes after we had left. We need to turn in the names of the participates by April 10th.\n\nRSVP:  Please confirm your participation with Clarence Hill by Friday\, April 10\, 2026 (we are limited to the first 30 people that sign up).  RSVP with Clarence at 815-550-8134 or dveeus11@gmail.com
URL:https://corvetteclubkc.com/event/kc-air-traffic-control-center-tour/
LOCATION:Air Traffic Control Center\, 250 South Rogers Road\, Olathe\, KS\, 66062\, United States
CATEGORIES:All Events,Club Events
ORGANIZER;CN="Clarence Hill":MAILTO:dveeus11@gmail.com
END:VEVENT
BEGIN:VEVENT
DTSTART;TZID=America/Chicago:20260418T100000
DTEND;TZID=America/Chicago:20260418T120000
DTSTAMP:20260421T180843
CREATED:20260409T215756Z
LAST-MODIFIED:20260409T215756Z
UID:9450-1776506400-1776513600@corvetteclubkc.com
SUMMARY:Camping World Open House
DESCRIPTION:Camping World is having an Open House the weekend of the races at the Kansas Speedway.  Our Corvettes will be features and lunch will be provided!  Contact Phil Tummons for more information at 816-719-4214 or ptummons@msn.com.\n\nCamping World: 1201 North 98th Street\, KCKS  66111 (across the highway from the Kansas Speedway)
URL:https://corvetteclubkc.com/event/camping-world-open-house/
LOCATION:Camping World\, 1201 North 98th Street\, Kansas City\, KS\, 66111\, United States
ORGANIZER;CN="Phil Tummons":MAILTO:ptummons@msn.com
END:VEVENT
BEGIN:VEVENT
DTSTART;TZID=America/Chicago:20260419T080000
DTEND;TZID=America/Chicago:20260419T170000
DTSTAMP:20260421T180843
CREATED:20260401T154822Z
LAST-MODIFIED:20260409T215449Z
UID:9435-1776585600-1776618000@corvetteclubkc.com
SUMMARY:NASCAR Corvette Kansas Speedway
DESCRIPTION:Our Corvettes will be on full display as 100\,000 people walk into the Kansas Speedway for the Sunday race.  The cost is $45\, which is half-price.  This gets you into the race and pretty much all access!  We will be sitting together during the race.\n\nUse this link to purchase tickets by Monday\, April 13th:\nhttps://www.gofevo.com/event/2026KCCarShow\n\n\nWe will meet at 8:00am at Bass Pro Shop at Legends at Village West and drive in together.  We have 10 more tickets to sit together as a group….purchase now!  Contact Phil Tummons for more information at 816-719-4214 or ptummons@msn.com.
URL:https://corvetteclubkc.com/event/kansas-speedway-car-show/
LOCATION:Bass Pro Shop\, 10300 Cabela Dr.\, Kansas City\, 66111\, United States
CATEGORIES:All Events,Club Events
ORGANIZER;CN="Phil Tummons":MAILTO:ptummons@msn.com
END:VEVENT
BEGIN:VEVENT
DTSTART;TZID=America/Chicago:20260419T100000
DTEND;TZID=America/Chicago:20260419T130000
DTSTAMP:20260421T180843
CREATED:20250703T122957Z
LAST-MODIFIED:20260330T115310Z
UID:9089-1776592800-1776603600@corvetteclubkc.com
SUMMARY:The Great Car Show
DESCRIPTION:Steve will be hosting this annual event.  This year\, they are judging cars-you could win a trophy!\nRegister by April 17th for the $40 the Driver’s Entry.  \nREGISTER HERE
URL:https://corvetteclubkc.com/event/the-great-car-show/
LOCATION:National WWI Museum and Memorial\, 2 Memorial Dr\, KANSAS CITY\, MO\, 64108\, United States
CATEGORIES:All Events,Club Events
ORGANIZER;CN="Steve Garrett":MAILTO:stevegarrettdj@gmail.com
END:VEVENT
BEGIN:VEVENT
DTSTART;TZID=America/Chicago:20260423T173000
DTEND;TZID=America/Chicago:20260423T190000
DTSTAMP:20260421T180843
CREATED:20250327T141821Z
LAST-MODIFIED:20260409T220031Z
UID:8865-1776965400-1776970800@corvetteclubkc.com
SUMMARY:Cosentino’s Cruise night
DESCRIPTION:We will take a drive for ice cream after the cruise-in.
URL:https://corvetteclubkc.com/event/cosentinos-cruise-night/
LOCATION:Cosentino’s\, 8051 W. 160th St.\, Overland Park\, KS\, 66223\, United States
CATEGORIES:All Events,Club Events
ORGANIZER;CN="Phil Tummons":MAILTO:ptummons@msn.com
END:VEVENT
BEGIN:VEVENT
DTSTART;TZID=America/Chicago:20260425T080000
DTEND;TZID=America/Chicago:20260425T150000
DTSTAMP:20260421T180843
CREATED:20260409T220507Z
LAST-MODIFIED:20260409T220545Z
UID:9454-1777104000-1777129200@corvetteclubkc.com
SUMMARY:Ottawa Corvette Show
DESCRIPTION:We need a host for this event!  \n\nPlease contact Phil Tummons if you can host at 816-719-4214 or ptummons@msn.com.\n\n\nWe participate in this show every year!  Trophies will be handed out.  We will meet at the Burger King by Walmart in Ottawa at 8am.
URL:https://corvetteclubkc.com/event/ottawa-corvette-show-2/
LOCATION:Ottawa Burger King\, 205 E 23rd St\, Ottawa\, KS\, Ottawa\, KS\, 66067\, United States
ORGANIZER;CN="Phil Tummons":MAILTO:ptummons@msn.com
END:VEVENT
BEGIN:VEVENT
DTSTART;TZID=America/Chicago:20260502T080000
DTEND;TZID=America/Chicago:20260502T140000
DTSTAMP:20260421T180843
CREATED:20250108T004814Z
LAST-MODIFIED:20260330T114244Z
UID:8732-1777708800-1777730400@corvetteclubkc.com
SUMMARY:2026 Spring Fling Corvette Show
DESCRIPTION:REGISTER HERE\nSaturday\, May 2nd\, 2026 – 8am-2pm Rain or Shine Cosentino’s Market in Blue Valley 8051 W. 160th Street\, Overland Park\, KS 66223 \n\n\n \n$40 Early Registration – $50 after April 27th $25 For Non-judged “Display Only” EntryCash only on day of show \n9:30 am – Registration Closes and Judging Begins10:00 am – 50/50 Ticket (closes at 12:45 PM)\, T-Shirt\, & Auction Sales11:00 – 1:00 – Lunch1:00 pm – 50/50 WINNING TICKET announced1:15 pm Award Presentations \n\n\n \nJudging CategoriesC1 (1953 – 1962)C2 (1963 – 1967)C3 (1968 – 1982) C4 (1984 – 1996)C5 (1997 – 2004)C6 (2005 – 2013)C7 (2014 – 2019))C8 Coupe (2020 – 2026)C8 Convertible (2020 – 2026) \nBest In Class Awards and Class Awards for each categoryPlatinum Sponsor Awards \nREGISTER HERE
URL:https://corvetteclubkc.com/event/cckc-spring-corvette-show/
LOCATION:Cosentino’s\, 8051 W. 160th St.\, Overland Park\, KS\, 66223\, United States
CATEGORIES:All Events,Club Events
ATTACH;FMTTYPE=image/jpeg:https://corvetteclubkc.com/wp-content/uploads/2023/09/1cckc-show.jpg
ORGANIZER;CN="Jim and Jana Lucke":MAILTO:jim.lucke@gmail.com
END:VEVENT
BEGIN:VEVENT
DTSTART;TZID=America/Chicago:20260509T100000
DTEND;TZID=America/Chicago:20260509T140000
DTSTAMP:20260421T180843
CREATED:20250601T171029Z
LAST-MODIFIED:20260401T160033Z
UID:9054-1778320800-1778335200@corvetteclubkc.com
SUMMARY:Detail Doctors Seminar
DESCRIPTION:Detail Doctors\, owned by our member Alex Bulbarela\, are putting on a learning seminar for the club to come to their shop and see demonstrations of Ceramic Coating\, PPF\, Color Wraps\, and other detailing items. This is your chance to get your questions answered by the Doctors. \n 
URL:https://corvetteclubkc.com/event/detail-doctors-seminar/
LOCATION:Detail Doctors\, 3029 Merriam Ln Suite B\, \, KS\, Kansas City\, KS\, 66106\, United States
CATEGORIES:All Events,Club Events
ORGANIZER;CN="Alex Bulbarela":MAILTO:alex@detaildoctorskc.com
END:VEVENT
BEGIN:VEVENT
DTSTART;TZID=America/Chicago:20260520T190000
DTEND;TZID=America/Chicago:20260520T200000
DTSTAMP:20260421T180843
CREATED:20250301T141758Z
LAST-MODIFIED:20251201T150446Z
UID:8781-1779303600-1779307200@corvetteclubkc.com
SUMMARY:Corvette Club of KC Monthly Meeting
DESCRIPTION:Our meetings are on the third Wednesday of each month at Zarda BBQ\, located at 11931 W 87th St Pkwy\, Lenexa\, KS 66215.\n\nDinner will begin around 5:45pm and run until 7:00pm.  We will start our meeting promptly at 7:00pm.
URL:https://corvetteclubkc.com/event/corvette-club-of-kc-monthly-meeting-29/
LOCATION:Zarda BBQ\, 11931 W 87th St Pkwy\,\, Lenexa\, 66215\, United States
CATEGORIES:All Events,Monthly Meetings
ORGANIZER;CN="Steve Garrett":MAILTO:stevegarrettdj@gmail.com
END:VEVENT
BEGIN:VEVENT
DTSTART;TZID=America/Chicago:20260528T173000
DTEND;TZID=America/Chicago:20260528T190000
DTSTAMP:20260421T180843
CREATED:20250327T141952Z
LAST-MODIFIED:20260401T155457Z
UID:8867-1779989400-1779994800@corvetteclubkc.com
SUMMARY:Cosentino’s Cruise night
DESCRIPTION:
URL:https://corvetteclubkc.com/event/cosentinos-cruise-night-2/
LOCATION:Cosentino’s\, 8051 W. 160th St.\, Overland Park\, KS\, 66223\, United States
CATEGORIES:All Events,Club Events
ORGANIZER;CN="Phil Tummons":MAILTO:ptummons@msn.com
END:VEVENT
BEGIN:VEVENT
DTSTART;TZID=America/Chicago:20260617T190000
DTEND;TZID=America/Chicago:20260617T200000
DTSTAMP:20260421T180843
CREATED:20250301T141906Z
LAST-MODIFIED:20251201T150526Z
UID:8783-1781722800-1781726400@corvetteclubkc.com
SUMMARY:Corvette Club of KC Monthly Meeting
DESCRIPTION:Our meetings are on the third Wednesday of each month at Zarda BBQ\, located at 11931 W 87th St Pkwy\, Lenexa\, KS 66215.\n\nDinner will begin around 5:45pm and run until 7:00pm.  We will start our meeting promptly at 7:00pm.
URL:https://corvetteclubkc.com/event/corvette-club-of-kc-monthly-meeting-30/
LOCATION:Zarda BBQ\, 11931 W 87th St Pkwy\,\, Lenexa\, 66215\, United States
CATEGORIES:All Events,Monthly Meetings
ORGANIZER;CN="Steve Garrett":MAILTO:stevegarrettdj@gmail.com
END:VEVENT
BEGIN:VEVENT
DTSTART;TZID=America/Chicago:20260625T173000
DTEND;TZID=America/Chicago:20260625T190000
DTSTAMP:20260421T180843
CREATED:20250327T142056Z
LAST-MODIFIED:20260401T155545Z
UID:8869-1782408600-1782414000@corvetteclubkc.com
SUMMARY:Cosentino’s Cruise night
DESCRIPTION:
URL:https://corvetteclubkc.com/event/cosentinos-cruise-night-3/
LOCATION:Cosentino’s\, 8051 W. 160th St.\, Overland Park\, KS\, 66223\, United States
CATEGORIES:All Events,Club Events
ORGANIZER;CN="Phil Tummons":MAILTO:ptummons@msn.com
END:VEVENT
BEGIN:VEVENT
DTSTART;TZID=America/Chicago:20260715T190000
DTEND;TZID=America/Chicago:20260715T200000
DTSTAMP:20260421T180843
CREATED:20250301T142020Z
LAST-MODIFIED:20251201T150601Z
UID:8785-1784142000-1784145600@corvetteclubkc.com
SUMMARY:Corvette Club of KC Monthly Meeting
DESCRIPTION:Our meetings are on the third Wednesday of each month at Zarda BBQ\, located at 11931 W 87th St Pkwy\, Lenexa\, KS 66215.\n\nDinner will begin around 5:45pm and run until 7:00pm.  We will start our meeting promptly at 7:00pm.
URL:https://corvetteclubkc.com/event/corvette-club-of-kc-monthly-meeting-31/
LOCATION:Zarda BBQ\, 11931 W 87th St Pkwy\,\, Lenexa\, 66215\, United States
CATEGORIES:All Events,Monthly Meetings
ORGANIZER;CN="Steve Garrett":MAILTO:stevegarrettdj@gmail.com
END:VEVENT
END:VCALENDAR