BEGIN:VCALENDAR
VERSION:2.0
PRODID:-//Corvette Club of Kansas City - ECPv6.15.20//NONSGML v1.0//EN
CALSCALE:GREGORIAN
METHOD:PUBLISH
X-WR-CALNAME:Corvette Club of Kansas City
X-ORIGINAL-URL:https://corvetteclubkc.com
X-WR-CALDESC:Events for Corvette Club of Kansas City
REFRESH-INTERVAL;VALUE=DURATION:PT1H
X-Robots-Tag:noindex
X-PUBLISHED-TTL:PT1H
BEGIN:VTIMEZONE
TZID:America/Chicago
BEGIN:DAYLIGHT
TZOFFSETFROM:-0600
TZOFFSETTO:-0500
TZNAME:CDT
DTSTART:20230312T080000
END:DAYLIGHT
BEGIN:STANDARD
TZOFFSETFROM:-0500
TZOFFSETTO:-0600
TZNAME:CST
DTSTART:20231105T070000
END:STANDARD
BEGIN:DAYLIGHT
TZOFFSETFROM:-0600
TZOFFSETTO:-0500
TZNAME:CDT
DTSTART:20240310T080000
END:DAYLIGHT
BEGIN:STANDARD
TZOFFSETFROM:-0500
TZOFFSETTO:-0600
TZNAME:CST
DTSTART:20241103T070000
END:STANDARD
BEGIN:DAYLIGHT
TZOFFSETFROM:-0600
TZOFFSETTO:-0500
TZNAME:CDT
DTSTART:20250309T080000
END:DAYLIGHT
BEGIN:STANDARD
TZOFFSETFROM:-0500
TZOFFSETTO:-0600
TZNAME:CST
DTSTART:20251102T070000
END:STANDARD
BEGIN:DAYLIGHT
TZOFFSETFROM:-0600
TZOFFSETTO:-0500
TZNAME:CDT
DTSTART:20260308T080000
END:DAYLIGHT
BEGIN:STANDARD
TZOFFSETFROM:-0500
TZOFFSETTO:-0600
TZNAME:CST
DTSTART:20261101T070000
END:STANDARD
END:VTIMEZONE
BEGIN:VEVENT
DTSTART;TZID=America/Chicago:20250413T150000
DTEND;TZID=America/Chicago:20250413T170000
DTSTAMP:20260421T213845
CREATED:20250410T205854Z
LAST-MODIFIED:20250410T205854Z
UID:8914-1744556400-1744563600@corvetteclubkc.com
SUMMARY:Ice Cream at Andy's Custard
DESCRIPTION:
URL:https://corvetteclubkc.com/event/ice-cream-at-andys-custard/
LOCATION:Andys Custard Metcalf\, 9535 Metcalf Ave\, Overland Park\, KS\, 66212\, United States
CATEGORIES:All Events,Club Events
ORGANIZER;CN="Steve Garrett":MAILTO:stevegarrettdj@gmail.com
END:VEVENT
BEGIN:VEVENT
DTSTART;TZID=America/Chicago:20250412T093000
DTEND;TZID=America/Chicago:20250412T120000
DTSTAMP:20260421T213845
CREATED:20250408T113617Z
LAST-MODIFIED:20250408T113617Z
UID:8907-1744450200-1744459200@corvetteclubkc.com
SUMMARY:Corvettes at The Bunny Hop
DESCRIPTION:
URL:https://corvetteclubkc.com/event/corvettes-at-the-bunny-hop/
LOCATION:Central Nazarene Church\, 12600 W 87th Street\, Lenexa\, KS\, 66215\, United States
END:VEVENT
BEGIN:VEVENT
DTSTART;TZID=America/Chicago:20250405T080000
DTEND;TZID=America/Chicago:20250405T100000
DTSTAMP:20260421T213845
CREATED:20250403T122846Z
LAST-MODIFIED:20250403T122846Z
UID:8897-1743840000-1743847200@corvetteclubkc.com
SUMMARY:KC Auto Museum Cars & Coffee
DESCRIPTION:
URL:https://corvetteclubkc.com/event/kc-auto-museum-cars-coffee/
LOCATION:Kansas Speedway\, 400 Speedway Blvd\, Kansas City\, KS\, 66111\, United States
ORGANIZER;CN="Phil Tummons":MAILTO:ptummons@msn.com
END:VEVENT
BEGIN:VEVENT
DTSTART;TZID=America/Chicago:20250327T173000
DTEND;TZID=America/Chicago:20250327T193000
DTSTAMP:20260421T213845
CREATED:20250301T202459Z
LAST-MODIFIED:20250327T141838Z
UID:8792-1743096600-1743103800@corvetteclubkc.com
SUMMARY:Cosentino’s Cruise night
DESCRIPTION:
URL:https://corvetteclubkc.com/event/cosentinos-cruise-night-11/
LOCATION:Cosentino’s\, 8051 W. 160th St.\, Overland Park\, KS\, 66223\, United States
CATEGORIES:All Events,Club Events
ORGANIZER;CN="Phil Tummons":MAILTO:ptummons@msn.com
END:VEVENT
BEGIN:VEVENT
DTSTART;TZID=America/Chicago:20250315T133000
DTEND;TZID=America/Chicago:20250315T163000
DTSTAMP:20260421T213845
CREATED:20250311T205335Z
LAST-MODIFIED:20250311T205925Z
UID:8795-1742045400-1742056200@corvetteclubkc.com
SUMMARY:St. Patrick's Parade
DESCRIPTION:THIS IS A FREE EVENT TO ALL CCKC MEMBERS!\n\nWe will be meeting Saturday at 1:30pm at 69th & Brookside Road (east of Wornall Road). The parade starts at 2pm.  If you’d like to participate in this FREE event\, please contact our Activities Director\, Phil Tummons IMMEDIATELY at 816-718-4214 or ptummons@msn.com.\n\nParade organizers are also looking for 3 convertibles\, so if you have a convertible and would like to join in the fun\, please reach out to Phil right away.
URL:https://corvetteclubkc.com/event/st-patricks-parade/
LOCATION:St. Patrick’s Parade\, 6901 Brookside Road\, Kansas City\, MO\, 64113\, United States
CATEGORIES:All Events,Club Events
ORGANIZER;CN="Phil Tummons":MAILTO:ptummons@msn.com
END:VEVENT
BEGIN:VEVENT
DTSTART;TZID=America/Chicago:20241214T180000
DTEND;TZID=America/Chicago:20241214T223000
DTSTAMP:20260421T213845
CREATED:20230819T121545Z
LAST-MODIFIED:20241209T030457Z
UID:7954-1734199200-1734215400@corvetteclubkc.com
SUMMARY:CCKC Holiday Party
DESCRIPTION:Leawood Country Club\nDecember 14\, 2024\n6:00 – 10:30PM
URL:https://corvetteclubkc.com/event/christmas-party/
LOCATION:Country Club of Leawood\, 12700 Overbrook Rd\, Leawood\, KS\, 66209\, United States
CATEGORIES:All Events,Club Events
ATTACH;FMTTYPE=image/jpeg:https://corvetteclubkc.com/wp-content/uploads/2022/08/xmas.jpg
ORGANIZER;CN="Christina Fallek":MAILTO:cmbellafiore@yahoo.com
END:VEVENT
BEGIN:VEVENT
DTSTART;TZID=America/Chicago:20241019T090000
DTEND;TZID=America/Chicago:20241019T110000
DTSTAMP:20260421T213845
CREATED:20240930T185309Z
LAST-MODIFIED:20240930T185339Z
UID:8565-1729328400-1729335600@corvetteclubkc.com
SUMMARY:Cornerstone Tinting PPF Demo
DESCRIPTION:RSVP HERE\nFree Coffee & Donuts for everyone.  \nFree giveaways and a demo on how PPF is applied to cars.
URL:https://corvetteclubkc.com/event/cornerstone-tinting-ppf-demo/
LOCATION:Cornerstone Tinting\, 6420 West 110th Street #100\, Overland Park\, KS\, 66211\, United States
CATEGORIES:All Events,Club Events
ORGANIZER;CN="Steve Garrett":MAILTO:stevegarrettdj@gmail.com
END:VEVENT
END:VCALENDAR