BEGIN:VCALENDAR
VERSION:2.0
PRODID:-//Corvette Club of Kansas City - ECPv6.15.20//NONSGML v1.0//EN
CALSCALE:GREGORIAN
METHOD:PUBLISH
X-ORIGINAL-URL:https://corvetteclubkc.com
X-WR-CALDESC:Events for Corvette Club of Kansas City
REFRESH-INTERVAL;VALUE=DURATION:PT1H
X-Robots-Tag:noindex
X-PUBLISHED-TTL:PT1H
BEGIN:VTIMEZONE
TZID:America/Chicago
BEGIN:DAYLIGHT
TZOFFSETFROM:-0600
TZOFFSETTO:-0500
TZNAME:CDT
DTSTART:20240310T080000
END:DAYLIGHT
BEGIN:STANDARD
TZOFFSETFROM:-0500
TZOFFSETTO:-0600
TZNAME:CST
DTSTART:20241103T070000
END:STANDARD
BEGIN:DAYLIGHT
TZOFFSETFROM:-0600
TZOFFSETTO:-0500
TZNAME:CDT
DTSTART:20250309T080000
END:DAYLIGHT
BEGIN:STANDARD
TZOFFSETFROM:-0500
TZOFFSETTO:-0600
TZNAME:CST
DTSTART:20251102T070000
END:STANDARD
BEGIN:DAYLIGHT
TZOFFSETFROM:-0600
TZOFFSETTO:-0500
TZNAME:CDT
DTSTART:20260308T080000
END:DAYLIGHT
BEGIN:STANDARD
TZOFFSETFROM:-0500
TZOFFSETTO:-0600
TZNAME:CST
DTSTART:20261101T070000
END:STANDARD
END:VTIMEZONE
BEGIN:VEVENT
DTSTART;TZID=America/Chicago:20250607T080000
DTEND;TZID=America/Chicago:20250607T110000
DTSTAMP:20260421T214852
CREATED:20250530T115714Z
LAST-MODIFIED:20250530T115714Z
UID:9041-1749283200-1749294000@corvetteclubkc.com
SUMMARY:Breakfast & Cruise to Big Biscuit/Lawrence
DESCRIPTION:–8am-meet at 9471 Meadow View Drive in Lenexa (Highway7 & Prairie Star Parkway-parking lot for Kremers\, Forbes & Kremers Dental Office)\n–8:15am – leave for Big Biscuit in Lawrence (we should arrive around 9:05am)
URL:https://corvetteclubkc.com/event/breakfast-cruise-to-big-biscuit-lawrence/
LOCATION:Kremers\, Forbes & Kremers Dental\, 9471 Meadow View Drive\, Lenexa\, KS\, 66227\, United States
CATEGORIES:All Events,Club Events
END:VEVENT
BEGIN:VEVENT
DTSTART;TZID=America/Chicago:20250614T090000
DTEND;TZID=America/Chicago:20250614T120000
DTSTAMP:20260421T214852
CREATED:20250529T180938Z
LAST-MODIFIED:20250530T115804Z
UID:9026-1749891600-1749902400@corvetteclubkc.com
SUMMARY:Northern Trains & Corvettes
DESCRIPTION:This is a fundraiser for their facility. We will be displaying our Corvettes for the estimated 600 people that will attend that day \nRSVP to Phil Tummons
URL:https://corvetteclubkc.com/event/northern-trains-corvettes/
LOCATION:Kansas City Northern Miniature\, 6060 NW Waukomis Dr\, Kansas City\, MO\, Kansas City\, MO\, 64151\, United States
CATEGORIES:All Events,Club Events
ORGANIZER;CN="Phil Tummons":MAILTO:ptummons@msn.com
END:VEVENT
BEGIN:VEVENT
DTSTART;TZID=America/Chicago:20250614T163000
DTEND;TZID=America/Chicago:20250614T183000
DTSTAMP:20260421T214852
CREATED:20250529T181527Z
LAST-MODIFIED:20250530T115903Z
UID:9031-1749918600-1749925800@corvetteclubkc.com
SUMMARY:Cruise To Whataburger
DESCRIPTION:4:30pm – 6:30pm at 159th & Shawnee Drive\nA meal will be provided to Corvette owners
URL:https://corvetteclubkc.com/event/cruise-to-whataburger/
LOCATION:Whataburger\, 7791 W 159th St.\, Overland Park\, KS\, 66223\, United States
CATEGORIES:All Events,Club Events
ORGANIZER;CN="Phil Tummons":MAILTO:ptummons@msn.com
END:VEVENT
BEGIN:VEVENT
DTSTART;TZID=America/Chicago:20250621T090000
DTEND;TZID=America/Chicago:20250621T113000
DTSTAMP:20260421T214852
CREATED:20250529T181936Z
LAST-MODIFIED:20250529T181937Z
UID:9036-1750496400-1750505400@corvetteclubkc.com
SUMMARY:Tall Grass Creek CCKC Show and Shine
DESCRIPTION:CCKC Show and Shine
URL:https://corvetteclubkc.com/event/tall-grass-creek-cckc-show-and-shine/
LOCATION:Tall Grass Creek\, 13800 Metcalf\, Overland Park\, KS\, 66223\, United States
ORGANIZER;CN="Phil Tummons":MAILTO:ptummons@msn.com
END:VEVENT
END:VCALENDAR